BEGIN:VCALENDAR
VERSION:2.0
PRODID:-//Scouts The Malverns - ECPv6.15.20//NONSGML v1.0//EN
CALSCALE:GREGORIAN
METHOD:PUBLISH
X-WR-CALNAME:Scouts The Malverns
X-ORIGINAL-URL:https://scoutsmalvern.org.uk
X-WR-CALDESC:Events for Scouts The Malverns
REFRESH-INTERVAL;VALUE=DURATION:PT1H
X-Robots-Tag:noindex
X-PUBLISHED-TTL:PT1H
BEGIN:VTIMEZONE
TZID:Europe/London
BEGIN:DAYLIGHT
TZOFFSETFROM:+0000
TZOFFSETTO:+0100
TZNAME:BST
DTSTART:20240331T010000
END:DAYLIGHT
BEGIN:STANDARD
TZOFFSETFROM:+0100
TZOFFSETTO:+0000
TZNAME:GMT
DTSTART:20241027T010000
END:STANDARD
BEGIN:DAYLIGHT
TZOFFSETFROM:+0000
TZOFFSETTO:+0100
TZNAME:BST
DTSTART:20250330T010000
END:DAYLIGHT
BEGIN:STANDARD
TZOFFSETFROM:+0100
TZOFFSETTO:+0000
TZNAME:GMT
DTSTART:20251026T010000
END:STANDARD
BEGIN:DAYLIGHT
TZOFFSETFROM:+0000
TZOFFSETTO:+0100
TZNAME:BST
DTSTART:20260329T010000
END:DAYLIGHT
BEGIN:STANDARD
TZOFFSETFROM:+0100
TZOFFSETTO:+0000
TZNAME:GMT
DTSTART:20261025T010000
END:STANDARD
END:VTIMEZONE
BEGIN:VEVENT
DTSTART;TZID=Europe/London:20250909T193000
DTEND;TZID=Europe/London:20250909T213000
DTSTAMP:20260420T183042
CREATED:20250818T172524Z
LAST-MODIFIED:20250818T172525Z
UID:877-1757446200-1757453400@scoutsmalvern.org.uk
SUMMARY:District Trustees
DESCRIPTION:
URL:https://scoutsmalvern.org.uk/event/district-trustees-3/
LOCATION:2nd Malvern Headquarters\, next to Malvern Rugby Club\, Spring Lane\, Malvern\, Worcestershire\, WR14 1AJ\, United Kingdom
END:VEVENT
BEGIN:VEVENT
DTSTART;TZID=Europe/London:20250911T190000
DTEND;TZID=Europe/London:20250911T190000
DTSTAMP:20260420T183042
CREATED:20250606T170448Z
LAST-MODIFIED:20250606T170450Z
UID:841-1757617200-1757617200@scoutsmalvern.org.uk
SUMMARY:1st Malvern Wells AGM
DESCRIPTION:
URL:https://scoutsmalvern.org.uk/event/1st-malvern-wells-agm/
LOCATION:1st Malvern Wells\, Assarts Lane Playing Fields WR14 4JR\, Malvern Wells\, Worcestershire\, WR14 4JR\, United Kingdom
END:VEVENT
BEGIN:VEVENT
DTSTART;TZID=Europe/London:20250917T193000
DTEND;TZID=Europe/London:20250917T203000
DTSTAMP:20260420T183042
CREATED:20250904T073750Z
LAST-MODIFIED:20250904T073752Z
UID:890-1758137400-1758141000@scoutsmalvern.org.uk
SUMMARY:1st Leigh AGM
DESCRIPTION:
URL:https://scoutsmalvern.org.uk/event/1st-leigh-agm/
LOCATION:1st Leigh Headquarters\, The Memorial Hall Ground\, Sherridge Road\,\, Leight Sinton\, Malvern\, Worcestershire\, WR13 5DE\, United Kingdom
END:VEVENT
BEGIN:VEVENT
DTSTART;TZID=Europe/London:20250924T193000
DTEND;TZID=Europe/London:20250924T213000
DTSTAMP:20260420T183042
CREATED:20250818T173215Z
LAST-MODIFIED:20250818T173216Z
UID:879-1758742200-1758749400@scoutsmalvern.org.uk
SUMMARY:District Leadership Team
DESCRIPTION:
URL:https://scoutsmalvern.org.uk/event/district-leadership-team/
LOCATION:1st Malvern Headquarters\, Dukes Way\, Malvern\, Worcestershire\, WR14 3JE\, United Kingdom
END:VEVENT
END:VCALENDAR