BEGIN:VCALENDAR
VERSION:2.0
PRODID:-//Scouts The Malverns - ECPv6.15.20//NONSGML v1.0//EN
CALSCALE:GREGORIAN
METHOD:PUBLISH
X-WR-CALNAME:Scouts The Malverns
X-ORIGINAL-URL:https://scoutsmalvern.org.uk
X-WR-CALDESC:Events for Scouts The Malverns
REFRESH-INTERVAL;VALUE=DURATION:PT1H
X-Robots-Tag:noindex
X-PUBLISHED-TTL:PT1H
BEGIN:VTIMEZONE
TZID:Europe/London
BEGIN:DAYLIGHT
TZOFFSETFROM:+0000
TZOFFSETTO:+0100
TZNAME:BST
DTSTART:20240331T010000
END:DAYLIGHT
BEGIN:STANDARD
TZOFFSETFROM:+0100
TZOFFSETTO:+0000
TZNAME:GMT
DTSTART:20241027T010000
END:STANDARD
BEGIN:DAYLIGHT
TZOFFSETFROM:+0000
TZOFFSETTO:+0100
TZNAME:BST
DTSTART:20250330T010000
END:DAYLIGHT
BEGIN:STANDARD
TZOFFSETFROM:+0100
TZOFFSETTO:+0000
TZNAME:GMT
DTSTART:20251026T010000
END:STANDARD
BEGIN:DAYLIGHT
TZOFFSETFROM:+0000
TZOFFSETTO:+0100
TZNAME:BST
DTSTART:20260329T010000
END:DAYLIGHT
BEGIN:STANDARD
TZOFFSETFROM:+0100
TZOFFSETTO:+0000
TZNAME:GMT
DTSTART:20261025T010000
END:STANDARD
END:VTIMEZONE
BEGIN:VEVENT
DTSTART;TZID=Europe/London:20250402T193000
DTEND;TZID=Europe/London:20250402T213000
DTSTAMP:20260421T011515
CREATED:20250206T184405Z
LAST-MODIFIED:20250206T184407Z
UID:685-1743622200-1743629400@scoutsmalvern.org.uk
SUMMARY:District Leadership Team Meeting
DESCRIPTION:District Leadership Team Meeting at 7th Malvern Headquarters\, Cowleigh Bank\, Malvern\, Worcestershire WR14 1QP
URL:https://scoutsmalvern.org.uk/event/district-leadership-team-meeting-2/
LOCATION:7th Malvern\, Cowleigh Bank\, Malvern\, Worcestershire\, WR14 1QP\, United Kingdom
END:VEVENT
BEGIN:VEVENT
DTSTART;TZID=Europe/London:20250407T193000
DTEND;TZID=Europe/London:20250407T193000
DTSTAMP:20260421T011515
CREATED:20240929T131937Z
LAST-MODIFIED:20250329T112415Z
UID:588-1744054200-1744054200@scoutsmalvern.org.uk
SUMMARY:District Trustee Board
DESCRIPTION:
URL:https://scoutsmalvern.org.uk/event/district-trustee-board-5/
LOCATION:2nd Malvern Headquarters\, next to Malvern Rugby Club\, Spring Lane\, Malvern\, Worcestershire\, WR14 1AJ\, United Kingdom
END:VEVENT
BEGIN:VEVENT
DTSTART;TZID=Europe/London:20250423T000000
DTEND;TZID=Europe/London:20250423T235959
DTSTAMP:20260421T011515
CREATED:20250413T151622Z
LAST-MODIFIED:20250413T151623Z
UID:746-1745366400-1745452799@scoutsmalvern.org.uk
SUMMARY:District Scout Leaders Meeting
DESCRIPTION:
URL:https://scoutsmalvern.org.uk/event/district-scout-leaders-meeting/
LOCATION:1st Leigh Headquarters\, The Memorial Hall Ground\, Sherridge Road\,\, Leight Sinton\, Malvern\, Worcestershire\, WR13 5DE\, United Kingdom
END:VEVENT
BEGIN:VEVENT
DTSTART;TZID=Europe/London:20250427T130000
DTEND;TZID=Europe/London:20250427T150000
DTSTAMP:20260421T011515
CREATED:20250208T101552Z
LAST-MODIFIED:20250424T195433Z
UID:690-1745758800-1745766000@scoutsmalvern.org.uk
SUMMARY:St George's Day
DESCRIPTION:District St George’s Day Celebration. Full details are in the attached PDF document below (including a route map). \n\n\n\nThe basic plan is to: \n\n\n\n\n13:00 Assemble on the grass area outside Malvern Council Offices in Priory Park.\n\n\n\n13:30 Parade and march around the park.\n\n\n\nParade around to the Bandstand\n\n\n\nService by the Bandstand\n\n\n\n15:00 Closing address and parade falls out.\n\n\n\n\nThere will be a rehearsal in Priory Park on Saturday 26th April at 2:30pm for Flag bearers and escorts and a Leader from each Group. \n\n\n\nItinerary and instructions for St Georges Day Parade 2025 v2Download
URL:https://scoutsmalvern.org.uk/event/st-georges-day-2/
LOCATION:Priory Park Malvern\, Priory Park\, Great Malvern\, Worcestershire\, WR14 3DR\, United Kingdom
END:VEVENT
END:VCALENDAR