BEGIN:VCALENDAR
VERSION:2.0
PRODID:-//Scouts The Malverns - ECPv6.15.20//NONSGML v1.0//EN
CALSCALE:GREGORIAN
METHOD:PUBLISH
X-WR-CALNAME:Scouts The Malverns
X-ORIGINAL-URL:https://scoutsmalvern.org.uk
X-WR-CALDESC:Events for Scouts The Malverns
REFRESH-INTERVAL;VALUE=DURATION:PT1H
X-Robots-Tag:noindex
X-PUBLISHED-TTL:PT1H
BEGIN:VTIMEZONE
TZID:Europe/London
BEGIN:DAYLIGHT
TZOFFSETFROM:+0000
TZOFFSETTO:+0100
TZNAME:BST
DTSTART:20240331T010000
END:DAYLIGHT
BEGIN:STANDARD
TZOFFSETFROM:+0100
TZOFFSETTO:+0000
TZNAME:GMT
DTSTART:20241027T010000
END:STANDARD
BEGIN:DAYLIGHT
TZOFFSETFROM:+0000
TZOFFSETTO:+0100
TZNAME:BST
DTSTART:20250330T010000
END:DAYLIGHT
BEGIN:STANDARD
TZOFFSETFROM:+0100
TZOFFSETTO:+0000
TZNAME:GMT
DTSTART:20251026T010000
END:STANDARD
BEGIN:DAYLIGHT
TZOFFSETFROM:+0000
TZOFFSETTO:+0100
TZNAME:BST
DTSTART:20260329T010000
END:DAYLIGHT
BEGIN:STANDARD
TZOFFSETFROM:+0100
TZOFFSETTO:+0000
TZNAME:GMT
DTSTART:20261025T010000
END:STANDARD
END:VTIMEZONE
BEGIN:VEVENT
DTSTART;TZID=Europe/London:20250205T193000
DTEND;TZID=Europe/London:20250205T193000
DTSTAMP:20260421T042734
CREATED:20250118T135929Z
LAST-MODIFIED:20250129T172956Z
UID:674-1738783800-1738783800@scoutsmalvern.org.uk
SUMMARY:District Leadership Team Meeting
DESCRIPTION:The first meeting of the new District Leadership Team (basically District Lead Volunteers\, Group Lead Volunteers and District Team Leads). Venue and time now confirmed as 19:30 at 1st Colwall Headquarters.  \n\n\n\nThe agenda issued on the 28th January 2025 is below: \n\n\n\nThe Malverns – District Leadership Team Meeting – Agenda – 5th FebDownload
URL:https://scoutsmalvern.org.uk/event/district-leadership-team-meeting/
LOCATION:Worcestershire
END:VEVENT
BEGIN:VEVENT
DTSTART;TZID=Europe/London:20250206T193000
DTEND;TZID=Europe/London:20250206T193000
DTSTAMP:20260421T042734
CREATED:20240929T131718Z
LAST-MODIFIED:20240929T131720Z
UID:586-1738870200-1738870200@scoutsmalvern.org.uk
SUMMARY:District Trustee Board
DESCRIPTION:
URL:https://scoutsmalvern.org.uk/event/district-trustee-board-4/
LOCATION:2nd Malvern Headquarters\, next to Malvern Rugby Club\, Spring Lane\, Malvern\, Worcestershire\, WR14 1AJ\, United Kingdom
END:VEVENT
END:VCALENDAR