BEGIN:VCALENDAR
VERSION:2.0
PRODID:-//Scouts The Malverns - ECPv6.15.20//NONSGML v1.0//EN
CALSCALE:GREGORIAN
METHOD:PUBLISH
X-ORIGINAL-URL:https://scoutsmalvern.org.uk
X-WR-CALDESC:Events for Scouts The Malverns
REFRESH-INTERVAL;VALUE=DURATION:PT1H
X-Robots-Tag:noindex
X-PUBLISHED-TTL:PT1H
BEGIN:VTIMEZONE
TZID:Europe/London
BEGIN:DAYLIGHT
TZOFFSETFROM:+0000
TZOFFSETTO:+0100
TZNAME:BST
DTSTART:20230326T010000
END:DAYLIGHT
BEGIN:STANDARD
TZOFFSETFROM:+0100
TZOFFSETTO:+0000
TZNAME:GMT
DTSTART:20231029T010000
END:STANDARD
BEGIN:DAYLIGHT
TZOFFSETFROM:+0000
TZOFFSETTO:+0100
TZNAME:BST
DTSTART:20240331T010000
END:DAYLIGHT
BEGIN:STANDARD
TZOFFSETFROM:+0100
TZOFFSETTO:+0000
TZNAME:GMT
DTSTART:20241027T010000
END:STANDARD
BEGIN:DAYLIGHT
TZOFFSETFROM:+0000
TZOFFSETTO:+0100
TZNAME:BST
DTSTART:20250330T010000
END:DAYLIGHT
BEGIN:STANDARD
TZOFFSETFROM:+0100
TZOFFSETTO:+0000
TZNAME:GMT
DTSTART:20251026T010000
END:STANDARD
END:VTIMEZONE
BEGIN:VEVENT
DTSTART;TZID=Europe/London:20241005T120000
DTEND;TZID=Europe/London:20241006T120000
DTSTAMP:20260421T105752
CREATED:20241001T132556Z
LAST-MODIFIED:20241001T132558Z
UID:594-1728129600-1728216000@scoutsmalvern.org.uk
SUMMARY:Hogwarts Beaver Camp
DESCRIPTION:Awaiting details of Hogwarts Beaver Camp
URL:https://scoutsmalvern.org.uk/event/hogwarts-beaver-camp/
LOCATION:Worcestershire
END:VEVENT
BEGIN:VEVENT
DTSTART;TZID=Europe/London:20241011T080000
DTEND;TZID=Europe/London:20241013T170000
DTSTAMP:20260421T105752
CREATED:20241001T133152Z
LAST-MODIFIED:20241003T183914Z
UID:599-1728633600-1728838800@scoutsmalvern.org.uk
SUMMARY:Operation Bald Eagle
DESCRIPTION:Operation Bald Eagle 2024Rhydd Covert Campsite11th – 13th October 2024    \n\n\n\nOperation Bald Eagle is a 3 part team challenge event with hiking and activity bases:       The Friday Night Challenge (full of surprises!)      The Day Challenge (multiple activity bases)      The Night Hike (around 8 miles interspersed with challenge & food bases) \n\n\n\nTaking part in each activity is important\, but the key to being successful rests with those who show good teamwork! Points are awarded in each part of the competition. The OBE Eagle Trophy is awarded to the team gaining the most marks. Certificates are also presented to the teams winning individual areas of the event. Open to Scout Troops in Herefordshire\, Worcestershire and Gloucestershire.Click here for more information and application form \n\n\n\n\n\n\n\n\n\n\n\nScouts competition – details to be confirmed on County website
URL:https://scoutsmalvern.org.uk/event/operation-bald-eagle/
LOCATION:Worcestershire
END:VEVENT
BEGIN:VEVENT
DTSTART;TZID=Europe/London:20241021T193000
DTEND;TZID=Europe/London:20241021T210000
DTSTAMP:20260421T105752
CREATED:20241018T184844Z
LAST-MODIFIED:20241018T185904Z
UID:611-1729539000-1729544400@scoutsmalvern.org.uk
SUMMARY:District 14-24 Meeting
DESCRIPTION:District 14-24 Meeting
URL:https://scoutsmalvern.org.uk/event/611/
LOCATION:Malvern Hills Hotel\, Wynds Point\, Jubilee Drive\, Upper Colwall\, Malvern\, Worcestershire\, WR13 6DW\, United Kingdom
END:VEVENT
BEGIN:VEVENT
DTSTART;TZID=Europe/London:20241022T193000
DTEND;TZID=Europe/London:20241022T193000
DTSTAMP:20260421T105752
CREATED:20240929T131323Z
LAST-MODIFIED:20240929T131324Z
UID:579-1729625400-1729625400@scoutsmalvern.org.uk
SUMMARY:District Trustee Board
DESCRIPTION:
URL:https://scoutsmalvern.org.uk/event/district-trustee-board-2/
LOCATION:2nd Malvern Headquarters\, next to Malvern Rugby Club\, Spring Lane\, Malvern\, Worcestershire\, WR14 1AJ\, United Kingdom
END:VEVENT
BEGIN:VEVENT
DTSTART;TZID=Europe/London:20241023T193000
DTEND;TZID=Europe/London:20241023T213000
DTSTAMP:20260421T105752
CREATED:20241018T185257Z
LAST-MODIFIED:20241018T190519Z
UID:617-1729711800-1729719000@scoutsmalvern.org.uk
SUMMARY:District Scout Leaders Meeting
DESCRIPTION:District Scout Leaders Meeting
URL:https://scoutsmalvern.org.uk/event/617/
LOCATION:1st Leigh Headquarters\, The Memorial Hall Ground\, Sherridge Road\,\, Leight Sinton\, Malvern\, Worcestershire\, WR13 5DE\, United Kingdom
END:VEVENT
END:VCALENDAR