BEGIN:VCALENDAR
VERSION:2.0
PRODID:-//Scouts The Malverns - ECPv6.15.20//NONSGML v1.0//EN
CALSCALE:GREGORIAN
METHOD:PUBLISH
X-ORIGINAL-URL:https://scoutsmalvern.org.uk
X-WR-CALDESC:Events for Scouts The Malverns
REFRESH-INTERVAL;VALUE=DURATION:PT1H
X-Robots-Tag:noindex
X-PUBLISHED-TTL:PT1H
BEGIN:VTIMEZONE
TZID:Europe/London
BEGIN:DAYLIGHT
TZOFFSETFROM:+0000
TZOFFSETTO:+0100
TZNAME:BST
DTSTART:20230326T010000
END:DAYLIGHT
BEGIN:STANDARD
TZOFFSETFROM:+0100
TZOFFSETTO:+0000
TZNAME:GMT
DTSTART:20231029T010000
END:STANDARD
BEGIN:DAYLIGHT
TZOFFSETFROM:+0000
TZOFFSETTO:+0100
TZNAME:BST
DTSTART:20240331T010000
END:DAYLIGHT
BEGIN:STANDARD
TZOFFSETFROM:+0100
TZOFFSETTO:+0000
TZNAME:GMT
DTSTART:20241027T010000
END:STANDARD
BEGIN:DAYLIGHT
TZOFFSETFROM:+0000
TZOFFSETTO:+0100
TZNAME:BST
DTSTART:20250330T010000
END:DAYLIGHT
BEGIN:STANDARD
TZOFFSETFROM:+0100
TZOFFSETTO:+0000
TZNAME:GMT
DTSTART:20251026T010000
END:STANDARD
END:VTIMEZONE
BEGIN:VEVENT
DTSTART;TZID=Europe/London:20240904T193000
DTEND;TZID=Europe/London:20240904T213000
DTSTAMP:20260421T123015
CREATED:20240323T110704Z
LAST-MODIFIED:20240323T110704Z
UID:232-1725478200-1725485400@scoutsmalvern.org.uk
SUMMARY:District Trustees
DESCRIPTION:A scheduled meeting of the District Trustee Board
URL:https://scoutsmalvern.org.uk/event/district-trustees-2/
LOCATION:2nd Malvern Headquarters\, next to Malvern Rugby Club\, Spring Lane\, Malvern\, Worcestershire\, WR14 1AJ\, United Kingdom
END:VEVENT
BEGIN:VEVENT
DTSTART;TZID=Europe/London:20240914T000000
DTEND;TZID=Europe/London:20240914T235959
DTSTAMP:20260421T123015
CREATED:20240522T081706Z
LAST-MODIFIED:20240522T081708Z
UID:517-1726272000-1726358399@scoutsmalvern.org.uk
SUMMARY:Scouts Shooting Competition
DESCRIPTION:Shooting competition 14th September @ Ledbury rifle club’ s outdoor range sited at Hollybush quarry.  \n\n\n\nAwaiting details
URL:https://scoutsmalvern.org.uk/event/scouts-shooting-competition/
LOCATION:Worcestershire
END:VEVENT
BEGIN:VEVENT
DTSTART;TZID=Europe/London:20240921T000000
DTEND;TZID=Europe/London:20240921T235959
DTSTAMP:20260421T123015
CREATED:20240323T110839Z
LAST-MODIFIED:20240713T140113Z
UID:234-1726876800-1726963199@scoutsmalvern.org.uk
SUMMARY:County Conference
DESCRIPTION:The date of a planned County Conference. \nAn overview of the day is now available on the County website by clicking here.
URL:https://scoutsmalvern.org.uk/event/county-conference/
LOCATION:Worcestershire
END:VEVENT
END:VCALENDAR