BEGIN:VCALENDAR
VERSION:2.0
PRODID:-//Scouts The Malverns - ECPv6.15.20//NONSGML v1.0//EN
CALSCALE:GREGORIAN
METHOD:PUBLISH
X-ORIGINAL-URL:https://scoutsmalvern.org.uk
X-WR-CALDESC:Events for Scouts The Malverns
REFRESH-INTERVAL;VALUE=DURATION:PT1H
X-Robots-Tag:noindex
X-PUBLISHED-TTL:PT1H
BEGIN:VTIMEZONE
TZID:Europe/London
BEGIN:DAYLIGHT
TZOFFSETFROM:+0000
TZOFFSETTO:+0100
TZNAME:BST
DTSTART:20230326T010000
END:DAYLIGHT
BEGIN:STANDARD
TZOFFSETFROM:+0100
TZOFFSETTO:+0000
TZNAME:GMT
DTSTART:20231029T010000
END:STANDARD
BEGIN:DAYLIGHT
TZOFFSETFROM:+0000
TZOFFSETTO:+0100
TZNAME:BST
DTSTART:20240331T010000
END:DAYLIGHT
BEGIN:STANDARD
TZOFFSETFROM:+0100
TZOFFSETTO:+0000
TZNAME:GMT
DTSTART:20241027T010000
END:STANDARD
BEGIN:DAYLIGHT
TZOFFSETFROM:+0000
TZOFFSETTO:+0100
TZNAME:BST
DTSTART:20250330T010000
END:DAYLIGHT
BEGIN:STANDARD
TZOFFSETFROM:+0100
TZOFFSETTO:+0000
TZNAME:GMT
DTSTART:20251026T010000
END:STANDARD
END:VTIMEZONE
BEGIN:VEVENT
DTSTART;TZID=Europe/London:20240603T193000
DTEND;TZID=Europe/London:20240603T213000
DTSTAMP:20260421T165738
CREATED:20240323T110341Z
LAST-MODIFIED:20240323T110341Z
UID:228-1717443000-1717450200@scoutsmalvern.org.uk
SUMMARY:District Trustees Meeting
DESCRIPTION:A scheduled meeting of the District Trustee Board. Details to be confirmed\,
URL:https://scoutsmalvern.org.uk/event/district-trustees-meeting/
LOCATION:Worcestershire
END:VEVENT
BEGIN:VEVENT
DTSTART;TZID=Europe/London:20240612T193000
DTEND;TZID=Europe/London:20240612T210000
DTSTAMP:20260421T165738
CREATED:20240322T182518Z
LAST-MODIFIED:20240506T164316Z
UID:218-1718220600-1718226000@scoutsmalvern.org.uk
SUMMARY:District AGM
DESCRIPTION:The Annual General Meeting (AGM) of The Malverns District Scout Council will be held on Wednesday 12th June 2024 from 7:00pm for a 7:30pm AGM at 2nd Malvern Headquarters next to Malvern Rugby Club\, Spring Lane\, Malvern\, Worcestershire WR14 1AJ. \nAll members of the District Scout Council and their Guests are cordially invited to attend. You can register your intention to attend now using the form at link: https://forms.office.com/e/NCSDKdv0Bz or use the QR Code alongside. \nFollowing the AGM there will be refreshments and an opportunity for networking. \nFull details\, including the agenda and all supporting documents will be published on our website beforehand at link: https://scoutsmalvern.org.uk/resources/district-agm-2024/ . \n 
URL:https://scoutsmalvern.org.uk/event/district-agm/
LOCATION:2nd Malvern Headquarters\, next to Malvern Rugby Club\, Spring Lane\, Malvern\, Worcestershire\, WR14 1AJ\, United Kingdom
END:VEVENT
BEGIN:VEVENT
DTSTART;TZID=Europe/London:20240615T000000
DTEND;TZID=Europe/London:20240615T235959
DTSTAMP:20260421T165738
CREATED:20240522T081530Z
LAST-MODIFIED:20240522T081532Z
UID:515-1718409600-1718495999@scoutsmalvern.org.uk
SUMMARY:Scouts Archery Competition
DESCRIPTION:Archery competition 15th June @ 1st Leigh \n\n\n\nAwaiting further details
URL:https://scoutsmalvern.org.uk/event/scouts-archery-competition/
LOCATION:Worcestershire
END:VEVENT
END:VCALENDAR