BEGIN:VCALENDAR
VERSION:2.0
PRODID:-//Scouts The Malverns - ECPv6.15.20//NONSGML v1.0//EN
CALSCALE:GREGORIAN
METHOD:PUBLISH
X-WR-CALNAME:Scouts The Malverns
X-ORIGINAL-URL:https://scoutsmalvern.org.uk
X-WR-CALDESC:Events for Scouts The Malverns
REFRESH-INTERVAL;VALUE=DURATION:PT1H
X-Robots-Tag:noindex
X-PUBLISHED-TTL:PT1H
BEGIN:VTIMEZONE
TZID:Europe/London
BEGIN:DAYLIGHT
TZOFFSETFROM:+0000
TZOFFSETTO:+0100
TZNAME:BST
DTSTART:20230326T010000
END:DAYLIGHT
BEGIN:STANDARD
TZOFFSETFROM:+0100
TZOFFSETTO:+0000
TZNAME:GMT
DTSTART:20231029T010000
END:STANDARD
BEGIN:DAYLIGHT
TZOFFSETFROM:+0000
TZOFFSETTO:+0100
TZNAME:BST
DTSTART:20240331T010000
END:DAYLIGHT
BEGIN:STANDARD
TZOFFSETFROM:+0100
TZOFFSETTO:+0000
TZNAME:GMT
DTSTART:20241027T010000
END:STANDARD
BEGIN:DAYLIGHT
TZOFFSETFROM:+0000
TZOFFSETTO:+0100
TZNAME:BST
DTSTART:20250330T010000
END:DAYLIGHT
BEGIN:STANDARD
TZOFFSETFROM:+0100
TZOFFSETTO:+0000
TZNAME:GMT
DTSTART:20251026T010000
END:STANDARD
END:VTIMEZONE
BEGIN:VEVENT
DTSTART;TZID=Europe/London:20240410T193000
DTEND;TZID=Europe/London:20240410T213000
DTSTAMP:20260421T214340
CREATED:20240408T095821Z
LAST-MODIFIED:20240408T095822Z
UID:396-1712777400-1712784600@scoutsmalvern.org.uk
SUMMARY:GSL's Meeting - Cancelled
DESCRIPTION:Following Ben’s post last week we’ve decided to postpone this meeting. It clashes with our St George’s Day committee meeting plus we feel there’s been so much going on we could all do with catching our breath . What we would like to propose though is that as many people as possible sign up to the 24th April Trustee workshop @ 2nd that Derek contacted you all about recently. Our take-up has been very low \, if time permits we could have a brief meeting at the end. Appreciate that the past couple of months have been quite intense but we’d like to thank you all for your support\, understanding and co- operation with everything that we’ve bombarded you with from compliance to growth & development. Thank you
URL:https://scoutsmalvern.org.uk/event/gsls-meeting-cancelled/
LOCATION:Worcestershire
END:VEVENT
BEGIN:VEVENT
DTSTART;TZID=Europe/London:20240408T193000
DTEND;TZID=Europe/London:20240408T213000
DTSTAMP:20260421T214340
CREATED:20240323T111423Z
LAST-MODIFIED:20240323T111456Z
UID:236-1712604600-1712611800@scoutsmalvern.org.uk
SUMMARY:First Transformation Workshops for Trustee Boards
DESCRIPTION:All Group/District/County Chairs\, Treasurers\, Secretaries and Lead Volunteers (including Deputies) in Hereford & Worcester have been invited to these Workshops: \n\nMonday 8th April                    Rhydd Covert Scout Campsite\, Bewdley\, DY12 1LF\nMonday 15th April                  St. Andrews Methodist Church\, Pump Street\, Worcester\, WR1 2QT\nTuesday 16th April                The Kindle Centre\, ASDA Supermarket\,  Belmont Road\, Hereford\, HR2 7JE\nFriday 19th April                      Bromsgrove Hotel and Spa\, Birmingham Road\,  Bromsgrove\, B61 0JB\nWednesday 24th April            2nd Malvern Scout Group Headquarters\,  next to Malvern Rugby Club\, Spring Lane\, Malvern\, WR14 1AJ\n\nPlease feel free to attend any of the workshops – they are not District based.  However\, we do need to know potential numbers for each location for catering and seating arrangements.  Please complete the registration form at least a week before each workshop by clicking on the link: https://forms.office.com/e/kKUTt7HQRz or scanning the QR code alongside. \nJohn Day and Derek Barnes look forward to meeting as many of you as possible at one of the workshops.
URL:https://scoutsmalvern.org.uk/event/transformation-workshops-for-trustee-boards-start/
LOCATION:Worcestershire
END:VEVENT
BEGIN:VEVENT
DTSTART;TZID=Europe/London:20240313T193000
DTEND;TZID=Europe/London:20240313T213000
DTSTAMP:20260421T214340
CREATED:20240303T130648Z
LAST-MODIFIED:20240323T111033Z
UID:90-1710358200-1710365400@scoutsmalvern.org.uk
SUMMARY:District All Leaders Meeting
DESCRIPTION:Hi all\,   \nWe would like to invite you to an All Leaders meeting on the 13th March (7:30pm) at 1st Malvern Link Scout Headquarters\, Rodway Hall\, Redland Rd\, Malvern WR14 1LY. \nYou can download a PDF version of the agenda by clicking here. We have a few upcoming events to update you on and we would also like your input on some of the District Development Plan. We are aiming to keep the meeting short \,focused and interesting and are hoping to be finished by 9:30pm. \nPlease confirm your attendance on Eventbrite by clicking here.   \nWe look forward to seeing you on the 13th March and if you have any questions in advance please feel free to contact us \nThanks\, \nBen Johnstone & Paul Boniface\nDistrict Lead Volunteers – Scouts The Malverns
URL:https://scoutsmalvern.org.uk/event/district-all-leaders-meeting/
LOCATION:1st Malvern Link Headquarters\, Rodway Hall\, Redland Road\,\, Malvern\, Worcestershire\, WR14 1LY\, United Kingdom
ATTACH;FMTTYPE=image/jpeg:https://scoutsmalvern.org.uk/wp-content/uploads/2024/03/All-Leaders-13th-March-2024-Crop-V1.jpeg
END:VEVENT
BEGIN:VEVENT
DTSTART;TZID=Europe/London:20240306T190000
DTEND;TZID=Europe/London:20240306T210000
DTSTAMP:20260421T214340
CREATED:20240303T162907Z
LAST-MODIFIED:20240323T111122Z
UID:118-1709751600-1709758800@scoutsmalvern.org.uk
SUMMARY:District Young Leaders gathering
DESCRIPTION:The Malverns District Young Leaders gathering (Including Module A) \nCome join us for an exciting in-person event at the 2nd Malvern Scout Headquarters in beautiful Malvern\, UK! This gathering is specifically designed for all young leaders in the Malvern District. Whether you’re a seasoned YL or just starting out\, this event is for you! \nDuring the gathering\, we will be focusing on Module A\, which covers essential skills and knowledge for young leaders. It’s a fantastic opportunity to learn\, grow\, and connect with other YLs in the area. \nSo mark your calendars and get ready for a fun-filled evening of learning\, sharing experiences\, and making new friends. Don’t miss out on this incredible chance to enhance your leadership skills and be part of a supportive community. \nIf you are coming\, please book your place on Eventbrite by clicking here. \nWe can’t wait to see you at the 2nd Malvern Scout Headquarters next to Malvern Rugby Club\, Spring Lane\, Malvern\, Worcestershire WR14 1AJ. Get ready for an unforgettable event!
URL:https://scoutsmalvern.org.uk/event/district-young-leaders-gathering/
LOCATION:2nd Malvern Headquarters\, next to Malvern Rugby Club\, Spring Lane\, Malvern\, Worcestershire\, WR14 1AJ\, United Kingdom
ATTACH;FMTTYPE=image/png:https://scoutsmalvern.org.uk/wp-content/uploads/2024/03/Young_Leaders_Scouts_Badge_complete.png
END:VEVENT
END:VCALENDAR