BEGIN:VCALENDAR
VERSION:2.0
PRODID:-//Scouts The Malverns - ECPv6.15.20//NONSGML v1.0//EN
CALSCALE:GREGORIAN
METHOD:PUBLISH
X-ORIGINAL-URL:https://scoutsmalvern.org.uk
X-WR-CALDESC:Events for Scouts The Malverns
REFRESH-INTERVAL;VALUE=DURATION:PT1H
X-Robots-Tag:noindex
X-PUBLISHED-TTL:PT1H
BEGIN:VTIMEZONE
TZID:Europe/London
BEGIN:DAYLIGHT
TZOFFSETFROM:+0000
TZOFFSETTO:+0100
TZNAME:BST
DTSTART:20240331T010000
END:DAYLIGHT
BEGIN:STANDARD
TZOFFSETFROM:+0100
TZOFFSETTO:+0000
TZNAME:GMT
DTSTART:20241027T010000
END:STANDARD
BEGIN:DAYLIGHT
TZOFFSETFROM:+0000
TZOFFSETTO:+0100
TZNAME:BST
DTSTART:20250330T010000
END:DAYLIGHT
BEGIN:STANDARD
TZOFFSETFROM:+0100
TZOFFSETTO:+0000
TZNAME:GMT
DTSTART:20251026T010000
END:STANDARD
BEGIN:DAYLIGHT
TZOFFSETFROM:+0000
TZOFFSETTO:+0100
TZNAME:BST
DTSTART:20260329T010000
END:DAYLIGHT
BEGIN:STANDARD
TZOFFSETFROM:+0100
TZOFFSETTO:+0000
TZNAME:GMT
DTSTART:20261025T010000
END:STANDARD
BEGIN:DAYLIGHT
TZOFFSETFROM:+0000
TZOFFSETTO:+0100
TZNAME:BST
DTSTART:20270328T010000
END:DAYLIGHT
BEGIN:STANDARD
TZOFFSETFROM:+0100
TZOFFSETTO:+0000
TZNAME:GMT
DTSTART:20271031T010000
END:STANDARD
END:VTIMEZONE
BEGIN:VEVENT
DTSTART;TZID=Europe/London:20250618T193000
DTEND;TZID=Europe/London:20250618T193000
DTSTAMP:20260421T012010
CREATED:20240929T132221Z
LAST-MODIFIED:20250527T095851Z
UID:592-1750275000-1750275000@scoutsmalvern.org.uk
SUMMARY:District AGM
DESCRIPTION:District AGM: 19:00 for 19:30 AGM with networking and presentation on Warren Oak.Full details (including all supporting documents) are now on our website by clicking here.
URL:https://scoutsmalvern.org.uk/event/district-agm-2/
LOCATION:2nd Malvern Headquarters\, next to Malvern Rugby Club\, Spring Lane\, Malvern\, Worcestershire\, WR14 1AJ\, United Kingdom
END:VEVENT
BEGIN:VEVENT
DTSTART;TZID=Europe/London:20250620T000000
DTEND;TZID=Europe/London:20250622T235959
DTSTAMP:20260421T012010
CREATED:20250403T133800Z
LAST-MODIFIED:20250403T133801Z
UID:721-1750377600-1750636799@scoutsmalvern.org.uk
SUMMARY:District Cub Camp
DESCRIPTION:Awaiting details and times
URL:https://scoutsmalvern.org.uk/event/district-cub-camp/
LOCATION:Warren Oak\, Hollow Lane\, Staplow\, Ledbury\, Hereforshire\, HR8 1NQ\, United Kingdom
END:VEVENT
BEGIN:VEVENT
DTSTART;TZID=Europe/London:20250622T000000
DTEND;TZID=Europe/London:20250622T235959
DTSTAMP:20260421T012010
CREATED:20250413T152257Z
LAST-MODIFIED:20250413T152258Z
UID:752-1750550400-1750636799@scoutsmalvern.org.uk
SUMMARY:District Scout PL / APL Activity Day
DESCRIPTION:
URL:https://scoutsmalvern.org.uk/event/district-scout-pl-apl-activity-day/
LOCATION:1st Leigh Headquarters\, The Memorial Hall Ground\, Sherridge Road\,\, Leight Sinton\, Malvern\, Worcestershire\, WR13 5DE\, United Kingdom
END:VEVENT
BEGIN:VEVENT
DTSTART;TZID=Europe/London:20250702T193000
DTEND;TZID=Europe/London:20250702T193000
DTSTAMP:20260421T012010
CREATED:20250606T165332Z
LAST-MODIFIED:20250606T165334Z
UID:837-1751484600-1751484600@scoutsmalvern.org.uk
SUMMARY:2nd Malvern AGM
DESCRIPTION:
URL:https://scoutsmalvern.org.uk/event/2nd-malvern-agm/
LOCATION:2nd Malvern Headquarters\, next to Malvern Rugby Club\, Spring Lane\, Malvern\, Worcestershire\, WR14 1AJ\, United Kingdom
END:VEVENT
BEGIN:VEVENT
DTSTART;TZID=Europe/London:20250704T180000
DTEND;TZID=Europe/London:20250704T180000
DTSTAMP:20260421T012010
CREATED:20250528T092552Z
LAST-MODIFIED:20250606T165149Z
UID:831-1751652000-1751652000@scoutsmalvern.org.uk
SUMMARY:1st Cradley AGM
DESCRIPTION:
URL:https://scoutsmalvern.org.uk/event/1st-cradley-agm/
LOCATION:1st Cradley\, The Old Rectory Rooms\, Churchfields Lane\, Cradley\, Herefordshire\, WR13 5LL\, United Kingdom
END:VEVENT
BEGIN:VEVENT
DTSTART;TZID=Europe/London:20250707T180000
DTEND;TZID=Europe/London:20250707T180000
DTSTAMP:20260421T012010
CREATED:20250607T084039Z
LAST-MODIFIED:20250607T084041Z
UID:850-1751911200-1751911200@scoutsmalvern.org.uk
SUMMARY:1st Bosbury AGM
DESCRIPTION:
URL:https://scoutsmalvern.org.uk/event/1st-bosbury-agm/
LOCATION:Warren Oak\, Hollow Lane\, Staplow\, Ledbury\, Hereforshire\, HR8 1NQ\, United Kingdom
END:VEVENT
BEGIN:VEVENT
DTSTART;TZID=Europe/London:20250710T180000
DTEND;TZID=Europe/London:20250710T180000
DTSTAMP:20260421T012010
CREATED:20250606T170812Z
LAST-MODIFIED:20250606T170814Z
UID:845-1752170400-1752170400@scoutsmalvern.org.uk
SUMMARY:1st Ledbury AGM
DESCRIPTION:6pm AGM to be followed by water warfare!!
URL:https://scoutsmalvern.org.uk/event/1st-ledbury-agm/
LOCATION:Warren Oak\, Hollow Lane\, Staplow\, Ledbury\, Hereforshire\, HR8 1NQ\, United Kingdom
END:VEVENT
BEGIN:VEVENT
DTSTART;TZID=Europe/London:20250710T180000
DTEND;TZID=Europe/London:20250710T193000
DTSTAMP:20260421T012010
CREATED:20250403T134245Z
LAST-MODIFIED:20250606T165556Z
UID:724-1752170400-1752175800@scoutsmalvern.org.uk
SUMMARY:1st Upton AGM
DESCRIPTION:
URL:https://scoutsmalvern.org.uk/event/1st-upton-agm/
LOCATION:1st Upton on Severn\, Upton on Severn Scout and Guide Headquarters\, Laburnum Walk\, Upton on Severn\, Worcestershire\, WR8 0LW\, United Kingdom
END:VEVENT
BEGIN:VEVENT
DTSTART;TZID=Europe/London:20250713T153000
DTEND;TZID=Europe/London:20250713T153000
DTSTAMP:20260421T012010
CREATED:20250507T155736Z
LAST-MODIFIED:20250606T165658Z
UID:799-1752420600-1752420600@scoutsmalvern.org.uk
SUMMARY:7th Malvern AGM
DESCRIPTION:
URL:https://scoutsmalvern.org.uk/event/7th-malvern-agm/
LOCATION:7th Malvern\, Cowleigh Bank\, Malvern\, Worcestershire\, WR14 1QP\, United Kingdom
END:VEVENT
BEGIN:VEVENT
DTSTART;TZID=Europe/London:20250714T180000
DTEND;TZID=Europe/London:20250714T183000
DTSTAMP:20260421T012010
CREATED:20250403T133602Z
LAST-MODIFIED:20250618T102548Z
UID:719-1752516000-1752517800@scoutsmalvern.org.uk
SUMMARY:1st Malvern Link AGM
DESCRIPTION:This is to give you notice of our AGM on Monday 14th July at 18:00\, at the Scout Hall. \n\n\n\nThe meeting will only be a maximum of 15 minutes\, so it would be great to see as many of you there as possible. \n\n\n\nPlease come along if you are collecting/dropping off your Beaver/Cub. (Leaders will be on-hand to supervise the young people during this time). \n\n\n\nPlease come as we have a number of changes we wish to communicate \n\n\n\nShould you have any interest in any of the roles or in offering general help\, please let us know. https://forms.office.com/e/i9tMG0CyB5 \n\n\n\nThank you \n\n\n\nThe Trustees
URL:https://scoutsmalvern.org.uk/event/1st-malvern-link-agm/
LOCATION:1st Malvern Link Headquarters\, Rodway Hall\, Redland Road\,\, Malvern\, Worcestershire\, WR14 1LY\, United Kingdom
END:VEVENT
BEGIN:VEVENT
DTSTART;TZID=Europe/London:20250717T190000
DTEND;TZID=Europe/London:20250717T190000
DTSTAMP:20260421T012010
CREATED:20250606T171105Z
LAST-MODIFIED:20250606T171147Z
UID:847-1752778800-1752778800@scoutsmalvern.org.uk
SUMMARY:H&W County AGM
DESCRIPTION:Details can be found at link: https://www.scoutshw.org.uk/events/county-agm-2025
URL:https://scoutsmalvern.org.uk/event/hw-county-agm/
LOCATION:Worcestershire
END:VEVENT
BEGIN:VEVENT
DTSTART;TZID=Europe/London:20250719T000000
DTEND;TZID=Europe/London:20250719T235959
DTSTAMP:20260421T012010
CREATED:20250413T152421Z
LAST-MODIFIED:20250413T152422Z
UID:754-1752883200-1752969599@scoutsmalvern.org.uk
SUMMARY:District Scout Archery Competition
DESCRIPTION:Venue to be decided
URL:https://scoutsmalvern.org.uk/event/district-scout-archery-competition/
LOCATION:Worcestershire
END:VEVENT
BEGIN:VEVENT
DTSTART;TZID=Europe/London:20250909T193000
DTEND;TZID=Europe/London:20250909T213000
DTSTAMP:20260421T012010
CREATED:20250818T172524Z
LAST-MODIFIED:20250818T172525Z
UID:877-1757446200-1757453400@scoutsmalvern.org.uk
SUMMARY:District Trustees
DESCRIPTION:
URL:https://scoutsmalvern.org.uk/event/district-trustees-3/
LOCATION:2nd Malvern Headquarters\, next to Malvern Rugby Club\, Spring Lane\, Malvern\, Worcestershire\, WR14 1AJ\, United Kingdom
END:VEVENT
BEGIN:VEVENT
DTSTART;TZID=Europe/London:20250911T190000
DTEND;TZID=Europe/London:20250911T190000
DTSTAMP:20260421T012010
CREATED:20250606T170448Z
LAST-MODIFIED:20250606T170450Z
UID:841-1757617200-1757617200@scoutsmalvern.org.uk
SUMMARY:1st Malvern Wells AGM
DESCRIPTION:
URL:https://scoutsmalvern.org.uk/event/1st-malvern-wells-agm/
LOCATION:1st Malvern Wells\, Assarts Lane Playing Fields WR14 4JR\, Malvern Wells\, Worcestershire\, WR14 4JR\, United Kingdom
END:VEVENT
BEGIN:VEVENT
DTSTART;TZID=Europe/London:20250917T193000
DTEND;TZID=Europe/London:20250917T203000
DTSTAMP:20260421T012010
CREATED:20250904T073750Z
LAST-MODIFIED:20250904T073752Z
UID:890-1758137400-1758141000@scoutsmalvern.org.uk
SUMMARY:1st Leigh AGM
DESCRIPTION:
URL:https://scoutsmalvern.org.uk/event/1st-leigh-agm/
LOCATION:1st Leigh Headquarters\, The Memorial Hall Ground\, Sherridge Road\,\, Leight Sinton\, Malvern\, Worcestershire\, WR13 5DE\, United Kingdom
END:VEVENT
BEGIN:VEVENT
DTSTART;TZID=Europe/London:20250924T193000
DTEND;TZID=Europe/London:20250924T213000
DTSTAMP:20260421T012010
CREATED:20250818T173215Z
LAST-MODIFIED:20250818T173216Z
UID:879-1758742200-1758749400@scoutsmalvern.org.uk
SUMMARY:District Leadership Team
DESCRIPTION:
URL:https://scoutsmalvern.org.uk/event/district-leadership-team/
LOCATION:1st Malvern Headquarters\, Dukes Way\, Malvern\, Worcestershire\, WR14 3JE\, United Kingdom
END:VEVENT
BEGIN:VEVENT
DTSTART;TZID=Europe/London:20251017T151200
DTEND;TZID=Europe/London:20251019T151200
DTSTAMP:20260421T012010
CREATED:20250304T190816Z
LAST-MODIFIED:20250304T190817Z
UID:699-1760713920-1760886720@scoutsmalvern.org.uk
SUMMARY:JOTA-JOTI 2025
DESCRIPTION:JOTA-JOTI is the world’s largest digital and radio Scout event\, promoting friendship and global citizenship. \n\n\n\nFor further information\, click on the button below
URL:https://scoutsmalvern.org.uk/event/jota-joti-2025/
LOCATION:Worcestershire
END:VEVENT
BEGIN:VEVENT
DTSTART;TZID=Europe/London:20251104T193000
DTEND;TZID=Europe/London:20251104T213000
DTSTAMP:20260421T012010
CREATED:20250818T173432Z
LAST-MODIFIED:20250818T173434Z
UID:883-1762284600-1762291800@scoutsmalvern.org.uk
SUMMARY:District Trustees
DESCRIPTION:
URL:https://scoutsmalvern.org.uk/event/district-trustees-4/
LOCATION:2nd Malvern Headquarters\, next to Malvern Rugby Club\, Spring Lane\, Malvern\, Worcestershire\, WR14 1AJ\, United Kingdom
END:VEVENT
BEGIN:VEVENT
DTSTART;TZID=Europe/London:20251109T000000
DTEND;TZID=Europe/London:20251109T235959
DTSTAMP:20260421T012010
CREATED:20250926T165709Z
LAST-MODIFIED:20250926T165711Z
UID:900-1762646400-1762732799@scoutsmalvern.org.uk
SUMMARY:Remembrance Sunday
DESCRIPTION:On Remembrance Sunday most Scout Units try to attend a local service of remembrance.
URL:https://scoutsmalvern.org.uk/event/remembrance-sunday/
LOCATION:Worcestershire
END:VEVENT
BEGIN:VEVENT
DTSTART;TZID=Europe/London:20260114T193000
DTEND;TZID=Europe/London:20260114T213000
DTSTAMP:20260421T012010
CREATED:20251203T104400Z
LAST-MODIFIED:20251203T104402Z
UID:907-1768419000-1768426200@scoutsmalvern.org.uk
SUMMARY:District Trustees
DESCRIPTION:
URL:https://scoutsmalvern.org.uk/event/district-trustees-5/
LOCATION:2nd Malvern Headquarters\, next to Malvern Rugby Club\, Spring Lane\, Malvern\, Worcestershire\, WR14 1AJ\, United Kingdom
END:VEVENT
BEGIN:VEVENT
DTSTART;TZID=Europe/London:20260225T193000
DTEND;TZID=Europe/London:20260225T193000
DTSTAMP:20260421T012010
CREATED:20260118T153057Z
LAST-MODIFIED:20260118T153058Z
UID:930-1772047800-1772047800@scoutsmalvern.org.uk
SUMMARY:District Trustee Board
DESCRIPTION:
URL:https://scoutsmalvern.org.uk/event/district-trustee-board-7/
LOCATION:2nd Malvern Headquarters\, next to Malvern Rugby Club\, Spring Lane\, Malvern\, Worcestershire\, WR14 1AJ\, United Kingdom
END:VEVENT
BEGIN:VEVENT
DTSTART;TZID=Europe/London:20260415T191500
DTEND;TZID=Europe/London:20260415T191500
DTSTAMP:20260421T012010
CREATED:20260118T153231Z
LAST-MODIFIED:20260228T092040Z
UID:932-1776280500-1776280500@scoutsmalvern.org.uk
SUMMARY:District Trustee Board
DESCRIPTION:
URL:https://scoutsmalvern.org.uk/event/district-trustee-board-8/
LOCATION:2nd Malvern Headquarters\, next to Malvern Rugby Club\, Spring Lane\, Malvern\, Worcestershire\, WR14 1AJ\, United Kingdom
END:VEVENT
BEGIN:VEVENT
DTSTART;TZID=Europe/London:20260426T140000
DTEND;TZID=Europe/London:20260426T150000
DTSTAMP:20260421T012010
CREATED:20260223T092530Z
LAST-MODIFIED:20260223T092731Z
UID:948-1777212000-1777215600@scoutsmalvern.org.uk
SUMMARY:St George's Day
DESCRIPTION:Scouts The Malverns annual St George’s Day celebration. Assemble on the grass area in Victoria Park\, between the play park and basketball courts from 14:00. Full details can be found by downloading the PDF file of instructions by clicking here\,
URL:https://scoutsmalvern.org.uk/event/st-georges-day-3/
LOCATION:Victoria Park\, Malvern Link\, Victoria Park Road\, Malvern\, Worcestershire\, WR14 2JY\, United Kingdom
END:VEVENT
BEGIN:VEVENT
DTSTART;TZID=Europe/London:20260513T190000
DTEND;TZID=Europe/London:20260513T190000
DTSTAMP:20260421T012010
CREATED:20260225T115354Z
LAST-MODIFIED:20260225T115355Z
UID:957-1778698800-1778698800@scoutsmalvern.org.uk
SUMMARY:District Leadership Team Meeting
DESCRIPTION:
URL:https://scoutsmalvern.org.uk/event/district-leadership-team-meeting-3/
LOCATION:7th Malvern\, Cowleigh Bank\, Malvern\, Worcestershire\, WR14 1QP\, United Kingdom
END:VEVENT
BEGIN:VEVENT
DTSTART;TZID=Europe/London:20260520T193000
DTEND;TZID=Europe/London:20260520T193000
DTSTAMP:20260421T012010
CREATED:20260118T153423Z
LAST-MODIFIED:20260118T153425Z
UID:934-1779305400-1779305400@scoutsmalvern.org.uk
SUMMARY:District Trustee Board
DESCRIPTION:
URL:https://scoutsmalvern.org.uk/event/district-trustee-board-9/
LOCATION:2nd Malvern Headquarters\, next to Malvern Rugby Club\, Spring Lane\, Malvern\, Worcestershire\, WR14 1AJ\, United Kingdom
END:VEVENT
BEGIN:VEVENT
DTSTART;TZID=Europe/London:20260606T000000
DTEND;TZID=Europe/London:20260606T235959
DTSTAMP:20260421T012010
CREATED:20260303T162911Z
LAST-MODIFIED:20260318T112145Z
UID:966-1780704000-1780790399@scoutsmalvern.org.uk
SUMMARY:Squirrels Woodland Activity Day
DESCRIPTION:Our 4 District Dreys are having a joint Woodland Activity Day at Cradley School. \n\n\n\nFurther details available from Squirrel Section Leaders.
URL:https://scoutsmalvern.org.uk/event/beavers-woodland-activity-day/
LOCATION:Cradley CE Primary School\, Cradley\, Herefordshire\, WR13 5NG\, United Kingdom
END:VEVENT
BEGIN:VEVENT
DTSTART;TZID=Europe/London:20260613T000000
DTEND;TZID=Europe/London:20260613T235959
DTSTAMP:20260421T012010
CREATED:20260318T111922Z
LAST-MODIFIED:20260318T112000Z
UID:973-1781308800-1781395199@scoutsmalvern.org.uk
SUMMARY:Beaver Activity Day
DESCRIPTION:County have cancelled their Beaver Camp and we had Lodges that had shown an interest in this so we’ve decided to hold an Activity Day at Warren Oak instead on the same weekend.Full details to follow.
URL:https://scoutsmalvern.org.uk/event/beaver-activity-day/
LOCATION:Warren Oak\, Hollow Lane\, Staplow\, Ledbury\, Hereforshire\, HR8 1NQ\, United Kingdom
END:VEVENT
BEGIN:VEVENT
DTSTART;TZID=Europe/London:20260624T190000
DTEND;TZID=Europe/London:20260624T190000
DTSTAMP:20260421T012010
CREATED:20260118T153632Z
LAST-MODIFIED:20260118T153634Z
UID:936-1782327600-1782327600@scoutsmalvern.org.uk
SUMMARY:District Annual General Meeting
DESCRIPTION:At 7:00pm for 7:30pm \n\n\n\nDetails to follow
URL:https://scoutsmalvern.org.uk/event/district-annual-general-meeting/
LOCATION:2nd Malvern Headquarters\, next to Malvern Rugby Club\, Spring Lane\, Malvern\, Worcestershire\, WR14 1AJ\, United Kingdom
END:VEVENT
BEGIN:VEVENT
DTSTART;TZID=Europe/London:20260701T000000
DTEND;TZID=Europe/London:20260701T235959
DTSTAMP:20260421T012010
CREATED:20260410T114816Z
LAST-MODIFIED:20260410T114817Z
UID:981-1782864000-1782950399@scoutsmalvern.org.uk
SUMMARY:2nd Malvern AGM
DESCRIPTION:2nd Malvern AGM – times and details to be advised
URL:https://scoutsmalvern.org.uk/event/2nd-malvern-agm-2/
LOCATION:2nd Malvern Headquarters\, next to Malvern Rugby Club\, Spring Lane\, Malvern\, Worcestershire\, WR14 1AJ\, United Kingdom
END:VEVENT
BEGIN:VEVENT
DTSTART;TZID=Europe/London:20260704T000000
DTEND;TZID=Europe/London:20260704T235959
DTSTAMP:20260421T012010
CREATED:20260303T163443Z
LAST-MODIFIED:20260303T163445Z
UID:970-1783123200-1783209599@scoutsmalvern.org.uk
SUMMARY:District Scout and Explorer Shooting Competition
DESCRIPTION:On the 4th July our District Scout Troops & Explorer Scout Units are having a Shooting competition at Hollybush Quarry\, kindly hosted by Ledbury Shooting Club. This year there will also be a ‘ Best Leader ‘ category.  \n\n\n\nFurther details from Section Leaders
URL:https://scoutsmalvern.org.uk/event/district-scout-and-explorer-shooting-competition/
LOCATION:Worcestershire
END:VEVENT
END:VCALENDAR