BEGIN:VCALENDAR
VERSION:2.0
PRODID:-//Scouts The Malverns - ECPv6.15.20//NONSGML v1.0//EN
CALSCALE:GREGORIAN
METHOD:PUBLISH
X-ORIGINAL-URL:https://scoutsmalvern.org.uk
X-WR-CALDESC:Events for Scouts The Malverns
REFRESH-INTERVAL;VALUE=DURATION:PT1H
X-Robots-Tag:noindex
X-PUBLISHED-TTL:PT1H
BEGIN:VTIMEZONE
TZID:Europe/London
BEGIN:DAYLIGHT
TZOFFSETFROM:+0000
TZOFFSETTO:+0100
TZNAME:BST
DTSTART:20230326T010000
END:DAYLIGHT
BEGIN:STANDARD
TZOFFSETFROM:+0100
TZOFFSETTO:+0000
TZNAME:GMT
DTSTART:20231029T010000
END:STANDARD
BEGIN:DAYLIGHT
TZOFFSETFROM:+0000
TZOFFSETTO:+0100
TZNAME:BST
DTSTART:20240331T010000
END:DAYLIGHT
BEGIN:STANDARD
TZOFFSETFROM:+0100
TZOFFSETTO:+0000
TZNAME:GMT
DTSTART:20241027T010000
END:STANDARD
BEGIN:DAYLIGHT
TZOFFSETFROM:+0000
TZOFFSETTO:+0100
TZNAME:BST
DTSTART:20250330T010000
END:DAYLIGHT
BEGIN:STANDARD
TZOFFSETFROM:+0100
TZOFFSETTO:+0000
TZNAME:GMT
DTSTART:20251026T010000
END:STANDARD
END:VTIMEZONE
BEGIN:VEVENT
DTSTART;TZID=Europe/London:20240424T193000
DTEND;TZID=Europe/London:20240424T213000
DTSTAMP:20260423T141354
CREATED:20240322T183410Z
LAST-MODIFIED:20240323T111539Z
UID:222-1713987000-1713994200@scoutsmalvern.org.uk
SUMMARY:Last Transformation Workshop for Trustee Boards
DESCRIPTION:All Group/District/County Chairs\, Treasurers\, Secretaries and Lead Volunteers (including Deputies) in Hereford & Worcester have been invited to these Workshops: \n\nMonday 8th April                    Rhydd Covert Scout Campsite\, Bewdley\, DY12 1LF\nMonday 15th April                  St. Andrews Methodist Church\, Pump Street\, Worcester\, WR1 2QT\nTuesday 16th April                The Kindle Centre\, ASDA Supermarket\,  Belmont Road\, Hereford\, HR2 7JE\nFriday 19th April                      Bromsgrove Hotel and Spa\, Birmingham Road\,  Bromsgrove\, B61 0JB\nWednesday 24th April            2nd Malvern Scout Group Headquarters\,  next to Malvern Rugby Club\, Spring Lane\, Malvern\, WR14 1AJ\n\nPlease feel free to attend any of the workshops – they are not District based.  However\, we do need to know potential numbers for each location for catering and seating arrangements.  Please complete the registration form at least a week before each workshop by clicking on the link: https://forms.office.com/e/kKUTt7HQRz or scanning the QR code alongside. \nJohn Day and Derek Barnes look forward to meeting as many of you as possible at one of the workshops.
URL:https://scoutsmalvern.org.uk/event/transformation-workshop-for-trustee-boards/
LOCATION:2nd Malvern Headquarters\, next to Malvern Rugby Club\, Spring Lane\, Malvern\, Worcestershire\, WR14 1AJ\, United Kingdom
END:VEVENT
END:VCALENDAR